{
 "currentVersion": 11.3,
 "cimVersion": "3.3.0",
 "serviceDescription": "Imagen histórica continua del ámbito territorial de la Comunidad Autónoma del Principado de Asturias, obtenida por ortorectificación de las imágenes aéreas del nombrado como Vuelo de la Diputación. \nEl vuelo de la Diputación, conocido también como Vuelo de 1970, por ser esta la fecha en torno a la cual se realizó el vuelo, se compone de 2.402 imágenes aéreas con una E=1/20.000 aprox. que han permitido generar una ortofoto de gran calidad (50 cm el pixel).",
 "mapName": "Ortofoto1970",
 "description": "Imagen histórica continua del ámbito territorial de la Comunidad Autónoma del Principado de Asturias, obtenida por ortorectificación de las imágenes aéreas del nombrado como Vuelo de la Diputación. El vuelo de la Diputación, conocido también como Vuelo de 1970, por ser esta la fecha en torno a la cual se realizó el vuelo, se compone de 2.402 imágenes aéreas con una E=1/20.000 aprox. que han permitido generar una ortofoto de gran calidad (50 cm el pixel).",
 "copyrightText": "CC-BY 4.0, Administración del Principado de Asturias",
 "supportsDynamicLayers": true,
 "layers": [
  {
   "id": 0,
   "name": "Ortofoto1970",
   "parentLayerId": -1,
   "defaultVisibility": true,
   "subLayerIds": null,
   "minScale": 0,
   "maxScale": 0,
   "type": "Raster Layer",
   "supportsDynamicLegends": true
  }
 ],
 "tables": [],
 "spatialReference": {
  "wkid": 25830,
  "latestWkid": 25830,
  "xyTolerance": 0.001,
  "zTolerance": 0.001,
  "mTolerance": 0.001,
  "falseX": -5120900,
  "falseY": -9998100,
  "xyUnits": 4.504455473910538E8,
  "falseZ": -100000,
  "zUnits": 10000,
  "falseM": -100000,
  "mUnits": 10000
 },
 "singleFusedMapCache": true,
 "tileInfo": {
  "rows": 256,
  "cols": 256,
  "dpi": 96,
  "format": "JPEG",
  "compressionQuality": 75,
  "origin": {
   "x": -5120900,
   "y": 9998100
  },
  "spatialReference": {
   "wkid": 25830,
   "latestWkid": 25830,
   "xyTolerance": 0.001,
   "zTolerance": 0.001,
   "mTolerance": 0.001,
   "falseX": -5682840.144496403,
   "falseY": -1.0997741293246817E7,
   "xyUnits": 4.095097346687703E8,
   "falseZ": -100000,
   "zUnits": 10000,
   "falseM": -100000,
   "mUnits": 10000
  },
  "lods": [
   {
    "level": 0,
    "resolution": 4891.96981024998,
    "scale": 1.8489297737236E7
   },
   {
    "level": 1,
    "resolution": 2445.98490512499,
    "scale": 9244648.868618
   },
   {
    "level": 2,
    "resolution": 1222.992452562495,
    "scale": 4622324.434309
   },
   {
    "level": 3,
    "resolution": 611.4962262813797,
    "scale": 2311162.217155
   },
   {
    "level": 4,
    "resolution": 305.74811314055756,
    "scale": 1155581.108577
   },
   {
    "level": 5,
    "resolution": 152.87405657041106,
    "scale": 577790.554289
   },
   {
    "level": 6,
    "resolution": 76.43702828507324,
    "scale": 288895.277144
   },
   {
    "level": 7,
    "resolution": 38.21851414253662,
    "scale": 144447.638572
   },
   {
    "level": 8,
    "resolution": 19.10925707126831,
    "scale": 72223.819286
   },
   {
    "level": 9,
    "resolution": 9.554628535634155,
    "scale": 36111.909643
   },
   {
    "level": 10,
    "resolution": 4.77731426794937,
    "scale": 18055.954822
   },
   {
    "level": 11,
    "resolution": 2.388657141912201,
    "scale": 9027.977441
   },
   {
    "level": 12,
    "resolution": 1.1943285668550503,
    "scale": 4513.988705
   },
   {
    "level": 13,
    "resolution": 0.5971642835598172,
    "scale": 2256.994353
   },
   {
    "level": 14,
    "resolution": 0.29858214164761665,
    "scale": 1128.497176
   },
   {
    "level": 15,
    "resolution": 0.14929107082380833,
    "scale": 564.248588
   }
  ]
 },
 "storageInfo": {
  "storageFormat": "esriMapCacheStorageModeCompact",
  "packetSize": 128
 },
 "initialExtent": {
  "xmin": 177712.5512821033,
  "ymin": 4725624.91735969,
  "xmax": 351598.40001678467,
  "ymax": 4873510.8671849435,
  "spatialReference": {
   "wkid": 25830,
   "latestWkid": 25830,
   "xyTolerance": 0.001,
   "zTolerance": 0.001,
   "mTolerance": 0.001,
   "falseX": -5120900,
   "falseY": -9998100,
   "xyUnits": 4.504455473910538E8,
   "falseZ": -100000,
   "zUnits": 10000,
   "falseM": -100000,
   "mUnits": 10000
  }
 },
 "fullExtent": {
  "xmin": 96773.95782087091,
  "ymin": 4700714.1649877485,
  "xmax": 496612.768254735,
  "ymax": 4923247.7337398585,
  "spatialReference": {
   "wkid": 25830,
   "latestWkid": 25830,
   "xyTolerance": 0.001,
   "zTolerance": 0.001,
   "mTolerance": 0.001,
   "falseX": -5120900,
   "falseY": -9998100,
   "xyUnits": 4.504455473910538E8,
   "falseZ": -100000,
   "zUnits": 10000,
   "falseM": -100000,
   "mUnits": 10000
  }
 },
 "datesInUnknownTimezone": false,
 "minScale": 2.952154707559943E8,
 "maxScale": 563.0788245315443,
 "units": "esriMeters",
 "supportedImageFormatTypes": "PNG32,PNG24,PNG,JPG,DIB,TIFF,EMF,PS,PDF,GIF,SVG,SVGZ,BMP",
 "documentInfo": {
  "Title": "Ortofoto 1970",
  "Author": "",
  "Comments": "Imagen histórica continua del ámbito territorial de la Comunidad Autónoma del Principado de Asturias, obtenida por ortorectificación de las imágenes aéreas del nombrado como Vuelo de la Diputación. El vuelo de la Diputación, conocido también como Vuelo de 1970, por ser esta la fecha en torno a la cual se realizó el vuelo, se compone de 2.402 imágenes aéreas con una E=1/20.000 aprox. que han permitido generar una ortofoto de gran calidad (50 cm el pixel).",
  "Subject": "Servicio de Mapa Base - Ortofoto 1970 del Principado de Asturias.",
  "Category": "",
  "Version": "3.3.0",
  "AntialiasingMode": "Fast",
  "TextAntialiasingMode": "Force",
  "Keywords": "Mapa,Base,Ortofoto,1970"
 },
 "supportsQueryDomains": true,
 "capabilities": "Map,Query,Data",
 "supportedQueryFormats": "JSON, geoJSON, PBF",
 "exportTilesAllowed": false,
 "referenceScale": 0.0,
 "supportsDatumTransformation": true,
 "archivingInfo": {
  "supportsHistoricMoment": false
 },
 "supportsClipping": true,
 "supportsSpatialFilter": true,
 "supportsTimeRelation": true,
 "supportsQueryDataElements": true,
 "mapUnits": {
  "uwkid": 9001
 },
 "maxRecordCount": 2000,
 "maxImageHeight": 4096,
 "maxImageWidth": 4096,
 "supportedExtensions": "",
 "resampling": false
}
