View In:
ArcGIS JavaScript
ArcGIS Online Map Viewer
ArcGIS Earth
Service Description: El modelo digital se ha obtenido por interpolación de modelos digitales del terreno de 5m de paso de malla procedentes de la interpolación a partir de la clase "Terreno" de la nube de puntos LIDAR del programa nacional PNOA-LIDAR.Las altitudes están referidas al nivel medio del Mar Mediterráneo.
Name: Fondos/MDT_LIDAR
Description: El modelo digital se ha obtenido por interpolación de modelos digitales del terreno de 5m de paso de malla procedentes de la interpolación a partir de la clase "Terreno" de la nube de puntos LIDAR del programa nacional PNOA-LIDAR.Las altitudes están referidas al nivel medio del Mar Mediterráneo.
Single Fused Map Cache: true
Tile Info:
- Height: 256
- Width: 256
- DPI: 96
-
Levels of Detail: 16
-
Level ID: 0
[ Start Tile, End Tile ]
- Resolution: 4891.96981024998
- Scale: 1.8489297737236E7
- Format: LERC
- Compression Quality: 0.0
- LERC Error: 0.1
- Origin: X: -5120900.0
Y: 9998100.0
- Spatial Reference: 25830
(25830)
LatestVCSWkid(0)
Storage Info:
- Storage Format: esriMapCacheStorageModeCompactV2
- Packet Size: 128
Extent:
XMin: 160752.5
YMin: 4754172.5
XMax: 378152.5
YMax: 4838607.5
Spatial Reference: 25830
(25830)
LatestVCSWkid(0)
Initial Extent:
XMin: 160752.5
YMin: 4754172.5
XMax: 378152.5
YMax: 4838607.5
Spatial Reference: 25830
(25830)
LatestVCSWkid(0)
Full Extent:
XMin: 160752.5
YMin: 4754172.5
XMax: 378152.5
YMax: 4838607.5
Spatial Reference: 25830
(25830)
LatestVCSWkid(0)
Pixel Size X: 5.0
Pixel Size Y: 5.0
Band Count: 1
Pixel Type: F32
RasterFunction Infos: {"rasterFunctionInfos": [{
"name": "None",
"description": "",
"help": ""
}]}
Mensuration Capabilities: Basic
Inspection Capabilities:
Has Histograms: true
Has Colormap: false
Has Multi Dimensions : false
Rendering Rule:
Min Scale: 1.8489297737236E7
Max Scale: 564.248588
Copyright Text: CC-BY 4.0, scne.es
Service Data Type: esriImageServiceDataTypeGeneric
Min Values: -36.25
Max Values: 2601.429931640625
Mean Values: 629.958744239892
Standard Deviation Values: 457.3573665729788
Object ID Field:
Fields:
None
Default Mosaic Method: Center
Allowed Mosaic Methods:
SortField:
SortValue: null
Mosaic Operator: First
Default Compression Quality: 75
Default Resampling Method: Bilinear
Max Record Count: null
Max Image Height: 4100
Max Image Width: 15000
Max Download Image Count: null
Max Mosaic Image Count: null
Allow Raster Function: true
Allow Copy: true
Allow Analysis: true
Allow Compute TiePoints: false
Supports Statistics: false
Supports Advanced Queries: false
Use StandardizedQueries: true
Raster Type Infos:
Name: Raster Dataset
Description: Supports all ArcGIS Raster Datasets
Help:
Has Raster Attribute Table: false
Edit Fields Info: null
Ownership Based AccessControl For Rasters: null
Child Resources:
Info
Histograms
Statistics
Key Properties
Legend
Raster Function Infos
Supported Operations:
Export Image
Identify
Measure
Compute Histograms
Compute Statistics Histograms
Get Samples
Compute Class Statistics
Query Boundary
Compute Pixel Location
Compute Angles
Validate
Project