View In:
ArcGIS JavaScript
ArcGIS Online Map Viewer
ArcGIS Earth
ArcGIS Pro
Service Description: Servicio de Mapa Base - Ortofoto 1956 del Principado de Asturias.
Map Name: Ortofoto1956
Legend
All Layers and Tables
Dynamic Legend
Dynamic All Layers
Layers:
Description: Servicio de Mapa Base - Ortofoto 1956 del Principado de Asturias.
Copyright Text: CC-BY 4.0, Administración del Principado de Asturias
Spatial Reference:
25830
(25830)
LatestVCSWkid(0)
Single Fused Map Cache: true
Tile Info:
- Height: 256
- Width: 256
- DPI: 96
-
Levels of Detail: 16
-
Level ID: 0
[ Start Tile, End Tile ]
- Resolution: 4891.96981024998
- Scale: 1.8489297737236E7
- Format: JPEG
- Compression Quality: 75.0
- Origin: X: -5120900.0
Y: 9998100.0
- Spatial Reference: 25830
(25830)
LatestVCSWkid(0)
Storage Info:
- Storage Format: esriMapCacheStorageModeCompact
- Packet Size: 128
Initial Extent:
XMin: 119084.74988085518
YMin: 4712353.81483416
XMax: 416061.33094956423
YMax: 4902589.611972422
Spatial Reference: 25830
(25830)
LatestVCSWkid(0)
Full Extent:
XMin: 62066.76967575215
YMin: 4697038.917406208
XMax: 488653.76268697623
YMax: 4919572.486158318
Spatial Reference: 25830
(25830)
LatestVCSWkid(0)
Units: esriMeters
Supported Image Format Types: PNG32,PNG24,PNG,JPG,DIB,TIFF,EMF,PS,PDF,GIF,SVG,SVGZ,BMP
Document Info:
Title: Ortofoto1956
Author:
Comments: Servicio de Mapa Base - Ortofoto 1956 del Principado de Asturias.
Subject: Servicio de Mapa Base - Ortofoto 1956 del Principado de Asturias.
Category:
Keywords: Mapa,Base,Ortofoto,1956
AntialiasingMode: Fast
TextAntialiasingMode: Force
Supports Dynamic Layers: true
Resampling: false
MaxRecordCount: 2000
MaxImageHeight: 4096
MaxImageWidth: 4096
Supported Query Formats: JSON, geoJSON, PBF
Supports Query Data Elements: true
Min Scale: 2.952154707559943E8
Max Scale: 35.19242653322152
Supports Datum Transformation: true
Child Resources:
Info
Dynamic Layer
Supported Operations:
Export Map
Identify
QueryLegends
QueryDomains
Find
Return Updates