View In:
ArcGIS JavaScript
ArcGIS Online Map Viewer
ArcGIS Earth
ArcGIS Pro
Service Description: Servicio web cacheado que incluye la ortofoto PNOA del año 2021 correspondiente al ámbito geográfico del Principado de Asturias.
Map Name: PNOA2021
Legend
All Layers and Tables
Dynamic Legend
Dynamic All Layers
Layers:
Description: Servicio web cacheado que incluye la ortofoto PNOA del año 2021 correspondiente al ámbito geográfico del Principado de Asturias.
Copyright Text: CC-BY 4.0, scne.es
Spatial Reference:
25830
(25830)
LatestVCSWkid(0)
Single Fused Map Cache: true
Tile Info:
- Height: 256
- Width: 256
- DPI: 96
-
Levels of Detail: 16
-
Level ID: 0
[ Start Tile, End Tile ]
- Resolution: 4891.96981024998
- Scale: 1.8489297737236E7
- Format: JPEG
- Compression Quality: 75.0
- Origin: X: -5120900.0
Y: 9998100.0
- Spatial Reference: 25830
(25830)
LatestVCSWkid(0)
Storage Info:
- Storage Format: esriMapCacheStorageModeCompact
- Packet Size: 128
Initial Extent:
XMin: 121842.648898557
YMin: 4720160.333086228
XMax: 410310.5824429021
YMax: 4904945.702656968
Spatial Reference: 25830
(25830)
LatestVCSWkid(0)
Full Extent:
XMin: 102775.45886798762
YMin: 4706408.126428968
XMax: 426896.973292504
YMax: 4912257.372979023
Spatial Reference: 25830
(25830)
LatestVCSWkid(0)
Units: esriMeters
Supported Image Format Types: PNG32,PNG24,PNG,JPG,DIB,TIFF,EMF,PS,PDF,GIF,SVG,SVGZ,BMP
Document Info:
Title: PNOA2021
Author:
Comments: Servicio web cacheado que incluye la ortofoto PNOA del año 2021 correspondiente al ámbito geográfico del Principado de Asturias.
Subject: Servicio de Mapa Base - Ortofoto PNOA 2021
Category:
Keywords: Mapa,Base,Ortofoto,PNOA,2021
AntialiasingMode: Fast
TextAntialiasingMode: Force
Supports Dynamic Layers: true
Resampling: false
MaxRecordCount: 2000
MaxImageHeight: 4096
MaxImageWidth: 4096
Supported Query Formats: JSON, geoJSON, PBF
Supports Query Data Elements: true
Min Scale: 2.952154707559943E8
Max Scale: 35.19242653322152
Supports Datum Transformation: true
Child Resources:
Info
Dynamic Layer
Supported Operations:
Export Map
Identify
QueryLegends
QueryDomains
Find
Return Updates