View In:
ArcGIS JavaScript
ArcGIS Online Map Viewer
ArcGIS Earth
ArcGIS Pro
Service Description: Servicio web cacheado que incluye la ortofoto PNOA del año 2006 correspondiente al ámbito geográfico del Principado de Asturias.
Map Name: PNOA_2006
Legend
All Layers and Tables
Dynamic Legend
Dynamic All Layers
Layers:
Description: Servicio web cacheado que incluye la ortofoto PNOA del año 2006 correspondiente al ámbito geográfico del Principado de Asturias.
Copyright Text: CC-BY 4.0, Administración del Principado de Asturias
Spatial Reference:
25830
(25830)
LatestVCSWkid(0)
Single Fused Map Cache: true
Tile Info:
- Height: 256
- Width: 256
- DPI: 96
-
Levels of Detail: 15
-
Level ID: 0
[ Start Tile, End Tile ]
- Resolution: 4891.96981024998
- Scale: 1.8489297737236E7
- Format: JPEG
- Compression Quality: 75.0
- Origin: X: -5120900.0
Y: 9998100.0
- Spatial Reference: 25830
(25830)
LatestVCSWkid(0)
Storage Info:
- Storage Format: esriMapCacheStorageModeCompact
- Packet Size: 128
Initial Extent:
XMin: 173005.9626141574
YMin: 4732199.491138162
XMax: 366084.19816711365
YMax: 4855880.597299082
Spatial Reference: 25830
(25830)
LatestVCSWkid(0)
Full Extent:
XMin: 158790.0658053644
YMin: 4745330.100085584
XMax: 380300.0949759067
YMax: 4842749.988351661
Spatial Reference: 25830
(25830)
LatestVCSWkid(0)
Units: esriMeters
Supported Image Format Types: PNG32,PNG24,PNG,JPG,DIB,TIFF,EMF,PS,PDF,GIF,SVG,SVGZ,BMP
Document Info:
Title: PNOA_2006
Author:
Comments: Servicio web cacheado que incluye la ortofoto PNOA del año 2006 correspondiente al ámbito geográfico del Principado de Asturias.
Subject: Servicio de Mapa Base - Ortofoto PNOA 2006
Category:
Keywords: Mapa,Base,Ortofoto,PNOA,2006
AntialiasingMode: Fast
TextAntialiasingMode: Force
Supports Dynamic Layers: true
Resampling: false
MaxRecordCount: 2000
MaxImageHeight: 4096
MaxImageWidth: 4096
Supported Query Formats: JSON, geoJSON, PBF
Supports Query Data Elements: true
Min Scale: 2.952154707559943E8
Max Scale: 35.19242653322152
Supports Datum Transformation: true
Child Resources:
Info
Dynamic Layer
Supported Operations:
Export Map
Identify
QueryLegends
QueryDomains
Find
Return Updates