View In:
ArcGIS JavaScript
ArcGIS Online Map Viewer
ArcGIS Earth
ArcGIS Pro
Service Description: Imagen histórica continua del ámbito territorial de la Comunidad Autónoma del Principado de Asturias, obtenida por ortorectificación de las imágenes aéreas del nombrado como Vuelo de la Diputación. El vuelo de la Diputación, conocido también como Vuelo de 1970, por ser esta la fecha en torno a la cual se realizó el vuelo, se compone de 2.402 imágenes aéreas con una E=1/20.000 aprox. que han permitido generar una ortofoto de gran calidad (50 cm el pixel).
Map Name: Ortofoto1970
Legend
All Layers and Tables
Dynamic Legend
Dynamic All Layers
Layers:
Description: Imagen histórica continua del ámbito territorial de la Comunidad Autónoma del Principado de Asturias, obtenida por ortorectificación de las imágenes aéreas del nombrado como Vuelo de la Diputación. El vuelo de la Diputación, conocido también como Vuelo de 1970, por ser esta la fecha en torno a la cual se realizó el vuelo, se compone de 2.402 imágenes aéreas con una E=1/20.000 aprox. que han permitido generar una ortofoto de gran calidad (50 cm el pixel).
Copyright Text: CC-BY 4.0, Administración del Principado de Asturias
Spatial Reference:
25830
(25830)
LatestVCSWkid(0)
Single Fused Map Cache: true
Tile Info:
- Height: 256
- Width: 256
- DPI: 96
-
Levels of Detail: 16
-
Level ID: 0
[ Start Tile, End Tile ]
- Resolution: 4891.96981024998
- Scale: 1.8489297737236E7
- Format: JPEG
- Compression Quality: 75.0
- Origin: X: -5120900.0
Y: 9998100.0
- Spatial Reference: 25830
(25830)
LatestVCSWkid(0)
Storage Info:
- Storage Format: esriMapCacheStorageModeCompact
- Packet Size: 128
Initial Extent:
XMin: 177712.5512821033
YMin: 4725624.91735969
XMax: 351598.40001678467
YMax: 4873510.8671849435
Spatial Reference: 25830
(25830)
LatestVCSWkid(0)
Full Extent:
XMin: 96773.95782087091
YMin: 4700714.1649877485
XMax: 496612.768254735
YMax: 4923247.7337398585
Spatial Reference: 25830
(25830)
LatestVCSWkid(0)
Units: esriMeters
Supported Image Format Types: PNG32,PNG24,PNG,JPG,DIB,TIFF,EMF,PS,PDF,GIF,SVG,SVGZ,BMP
Document Info:
Title: Ortofoto 1970
Author:
Comments: Imagen histórica continua del ámbito territorial de la Comunidad Autónoma del Principado de Asturias, obtenida por ortorectificación de las imágenes aéreas del nombrado como Vuelo de la Diputación. El vuelo de la Diputación, conocido también como Vuelo de 1970, por ser esta la fecha en torno a la cual se realizó el vuelo, se compone de 2.402 imágenes aéreas con una E=1/20.000 aprox. que han permitido generar una ortofoto de gran calidad (50 cm el pixel).
Subject: Servicio de Mapa Base - Ortofoto 1970 del Principado de Asturias.
Category:
Keywords: Mapa,Base,Ortofoto,1970
AntialiasingMode: Fast
TextAntialiasingMode: Force
Supports Dynamic Layers: true
Resampling: false
MaxRecordCount: 2000
MaxImageHeight: 4096
MaxImageWidth: 4096
Supported Query Formats: JSON, geoJSON, PBF
Supports Query Data Elements: true
Min Scale: 2.952154707559943E8
Max Scale: 563.0788245315443
Supports Datum Transformation: true
Child Resources:
Info
Dynamic Layer
Supported Operations:
Export Map
Identify
QueryLegends
QueryDomains
Find
Return Updates